BEGIN:VCALENDAR
VERSION:2.0
PRODID:-//AFRICAN BUSINESS ROUNDTABLE - ECPv6.15.20//NONSGML v1.0//EN
CALSCALE:GREGORIAN
METHOD:PUBLISH
X-ORIGINAL-URL:https://abrnetwork.org
X-WR-CALDESC:Events for AFRICAN BUSINESS ROUNDTABLE
REFRESH-INTERVAL;VALUE=DURATION:PT1H
X-Robots-Tag:noindex
X-PUBLISHED-TTL:PT1H
BEGIN:VTIMEZONE
TZID:Africa/Lagos
BEGIN:STANDARD
TZOFFSETFROM:+0100
TZOFFSETTO:+0100
TZNAME:WAT
DTSTART:20250101T000000
END:STANDARD
END:VTIMEZONE
BEGIN:VEVENT
DTSTART;VALUE=DATE:20260514
DTEND;VALUE=DATE:20260516
DTSTAMP:20260423T182508
CREATED:20260408T195123Z
LAST-MODIFIED:20260408T195123Z
UID:2980-1778716800-1778889599@abrnetwork.org
SUMMARY:Africa CEO Forum Annual Summit
DESCRIPTION:Africa CEO Forum Annual Summit \n\nThe 2026 edition is in partnership with the International Finance Corporation (IFC)\, a member of the World Bank Group\nIn attendance will be 2\,000 African private and public sector leaders\, as well as international investors.\nParticipation is reserved for C-Suite executives (CEO\, MD\, Partner…) or Exco members of African companies with a turnover of more than 20 million euros (50 million euros for international companies).\nRegistration is ongoing.\n\n14th – 15th May\, 2026 \nKigali. \n 
URL:https://abrnetwork.org/event/africa-ceo-forum-annual-summit/
CATEGORIES:2026
END:VEVENT
BEGIN:VEVENT
DTSTART;VALUE=DATE:20260525
DTEND;VALUE=DATE:20260530
DTSTAMP:20260423T182508
CREATED:20260408T195226Z
LAST-MODIFIED:20260408T195226Z
UID:2982-1779667200-1780099199@abrnetwork.org
SUMMARY:Annual Meetings of the African Development Bank Group (AfDB)
DESCRIPTION:Annual Meetings of the African Development Bank Group (AfDB) \n\nThe 2026 Me ABR and Innovest Afrika\, with the support of PAFTRAC\, are planning three investor accelerator cohorts for startups in Nigeria\, Egypt\, and Kenya. The initiative aims to enhance investment readiness\, facilitate access to capital\, and promote scalable\, high-impact ventures across the continent. Further details will be communicated in due course.etings will be the first to be held under the chairmanship of Dr Sidi Ould Tah\, who was elected as head of the Bank Group on 29 May 2025.\nThe Annual Meetings are comprised of Member States’ invitation-only sessions\, closed bilateral meetings\, as well as events open to all attendees\, including the Press. \nRegistration for the Annual Meetings will open on 9 March and close on 18 May 2026. Specific information related to registration and participation in the Meetings\, will be shared with you in due course. \n\n25th – 29th May 2026 \nBrazzaville\, Republic of Congo. \n 
URL:https://abrnetwork.org/event/annual-meetings-of-the-african-development-bank-group-afdb/
CATEGORIES:2026
END:VEVENT
END:VCALENDAR