BEGIN:VCALENDAR
VERSION:2.0
PRODID:-//AFRICAN BUSINESS ROUNDTABLE - ECPv6.15.20//NONSGML v1.0//EN
CALSCALE:GREGORIAN
METHOD:PUBLISH
X-WR-CALNAME:AFRICAN BUSINESS ROUNDTABLE
X-ORIGINAL-URL:https://abrnetwork.org
X-WR-CALDESC:Events for AFRICAN BUSINESS ROUNDTABLE
REFRESH-INTERVAL;VALUE=DURATION:PT1H
X-Robots-Tag:noindex
X-PUBLISHED-TTL:PT1H
BEGIN:VTIMEZONE
TZID:Africa/Lagos
BEGIN:STANDARD
TZOFFSETFROM:+0100
TZOFFSETTO:+0100
TZNAME:WAT
DTSTART:20240101T000000
END:STANDARD
END:VTIMEZONE
BEGIN:VEVENT
DTSTART;TZID=Africa/Lagos:20250627T080000
DTEND;TZID=Africa/Lagos:20250627T170000
DTSTAMP:20260424T102132
CREATED:20250527T033221Z
LAST-MODIFIED:20250612T080518Z
UID:2625-1751011200-1751043600@abrnetwork.org
SUMMARY:African Business Roundtable (ABR) / NEPAD Business Group Nigeria (NBGN) Business Forum – Abuja\, Nigeria
DESCRIPTION:Date: Friday\, 27th June 2025\nTime: 9:00 a.m. – 5:00 p.m.\nVenue: Abuja Continental Hotel\, Abuja\, Nigeria \nWe are delighted to invite you to the ABR/NBGN Business Forum on Operationalizing the AfCFTA\, a landmark event strategically convened on the sidelines of the Afreximbank Annual Meetings. This prestigious forum offers a unique platform for high-level engagement\, strategic visibility\, and impactful dialogue among Africa’s most influential leaders. \nForum Theme:\n“Enhancing Domestic Capacities for Optimizing the Opportunities of AfCFTA for Africa’s Prosperity and Mitigating the External Threats to Its Implementation” \nThis year’s forum will catalyze bold and forward-looking conversations on critical issues including: \n\nRegional integration\nIndustrial transformation\nInfrastructure development\nRegulatory harmonization\nTrade facilitation\nFinancial innovation\n\nWho’s Attending:\nOver 200 senior leaders and influencers from across Africa are expected to attend\, including policymakers\, CEOs\, financiers\, multilateral organizations\, investors\, entrepreneurs\, and academics. This presents an invaluable opportunity for strategic networking\, thought leadership\, and collaborative partnerships that drive continental progress. \nSpecial Highlight:\nThe forum will also feature the official launch of the ABR 30th Anniversary Commemorative Book\, celebrating three decades of private sector advocacy and transformational investment promotion across Africa. \nRegister Now\nSecure your spot at this high-level gathering by registering here \nDon’t Miss the Afreximbank Annual Meetings\nMaximize your engagement by also registering for the Afreximbank Annual Meetings\, which bring together key players in African trade and investment.\nRegister via the official link: HERE
URL:https://abrnetwork.org/event/african-business-roundtable-abr-nepad-business-group-nigeria-nbgn-business-forum-abuja-nigeria/
CATEGORIES:2025
ORGANIZER;CN="African Business Roundtable":MAILTO:info@abrnetwork.org
END:VEVENT
END:VCALENDAR