BEGIN:VCALENDAR
VERSION:2.0
PRODID:-//AFRICAN BUSINESS ROUNDTABLE - ECPv6.15.20//NONSGML v1.0//EN
CALSCALE:GREGORIAN
METHOD:PUBLISH
X-WR-CALNAME:AFRICAN BUSINESS ROUNDTABLE
X-ORIGINAL-URL:https://abrnetwork.org
X-WR-CALDESC:Events for AFRICAN BUSINESS ROUNDTABLE
REFRESH-INTERVAL;VALUE=DURATION:PT1H
X-Robots-Tag:noindex
X-PUBLISHED-TTL:PT1H
BEGIN:VTIMEZONE
TZID:UTC
BEGIN:STANDARD
TZOFFSETFROM:+0000
TZOFFSETTO:+0000
TZNAME:UTC
DTSTART:20170101T000000
END:STANDARD
END:VTIMEZONE
BEGIN:VTIMEZONE
TZID:Europe/Paris
BEGIN:DAYLIGHT
TZOFFSETFROM:+0100
TZOFFSETTO:+0200
TZNAME:CEST
DTSTART:20180325T010000
END:DAYLIGHT
BEGIN:STANDARD
TZOFFSETFROM:+0200
TZOFFSETTO:+0100
TZNAME:CET
DTSTART:20181028T010000
END:STANDARD
BEGIN:DAYLIGHT
TZOFFSETFROM:+0100
TZOFFSETTO:+0200
TZNAME:CEST
DTSTART:20190331T010000
END:DAYLIGHT
BEGIN:STANDARD
TZOFFSETFROM:+0200
TZOFFSETTO:+0100
TZNAME:CET
DTSTART:20191027T010000
END:STANDARD
BEGIN:DAYLIGHT
TZOFFSETFROM:+0100
TZOFFSETTO:+0200
TZNAME:CEST
DTSTART:20200329T010000
END:DAYLIGHT
BEGIN:STANDARD
TZOFFSETFROM:+0200
TZOFFSETTO:+0100
TZNAME:CET
DTSTART:20201025T010000
END:STANDARD
END:VTIMEZONE
BEGIN:VTIMEZONE
TZID:Africa/Lagos
BEGIN:STANDARD
TZOFFSETFROM:+0100
TZOFFSETTO:+0100
TZNAME:WAT
DTSTART:20160101T000000
END:STANDARD
END:VTIMEZONE
BEGIN:VEVENT
DTSTART;VALUE=DATE:20210512
DTEND;VALUE=DATE:20210514
DTSTAMP:20260423T215953
CREATED:20210505T120942Z
LAST-MODIFIED:20210505T120942Z
UID:1980-1620777600-1620950399@abrnetwork.org
SUMMARY:GTR EAST AFRICA 2021: VIRTUAL
DESCRIPTION:
URL:https://abrnetwork.org/event/gtr-east-africa-2021-virtual/
CATEGORIES:2021
ATTACH;FMTTYPE=image/jpeg:https://abrnetwork.org/wp-content/uploads/2021/05/Screenshot_20210505-134305_Drive.jpg
END:VEVENT
BEGIN:VEVENT
DTSTART;VALUE=DATE:20210324
DTEND;VALUE=DATE:20210326
DTSTAMP:20260423T215953
CREATED:20210322T081635Z
LAST-MODIFIED:20210322T081825Z
UID:1966-1616544000-1616716799@abrnetwork.org
SUMMARY:GTR WEST AFRICA 2021
DESCRIPTION:
URL:https://abrnetwork.org/event/gtr-west-africa/
LOCATION:Virtual Event
CATEGORIES:2021
ATTACH;FMTTYPE=image/jpeg:https://abrnetwork.org/wp-content/uploads/2021/03/20210322_100918.jpg
END:VEVENT
BEGIN:VEVENT
DTSTART;TZID=UTC:20201118T120000
DTEND;TZID=UTC:20201118T130000
DTSTAMP:20260423T215953
CREATED:20201014T234640Z
LAST-MODIFIED:20201016T125303Z
UID:1781-1605700800-1605704400@abrnetwork.org
SUMMARY:The ABR Project Presentations Webinar III
DESCRIPTION:The ABR Project Presentations Webinar III (Pre-Selected “Oven Ready” Investment Projects). \nWhere the African Business Roudtable will again be promoting and profiling pre-selected oven-ready projects for funding to interested investors \n  \nTime: 11:30AM – 01:00PM GMT+1
URL:https://abrnetwork.org/event/the-abr-project-presentations-webinar-iii/
CATEGORIES:2020
ATTACH;FMTTYPE=image/png:https://abrnetwork.org/wp-content/uploads/2020/10/Screenshot_20200826-1449043-1-300x120-1.png
ORGANIZER;CN="African Business Roundtable":MAILTO:info@abrnetwork.org
END:VEVENT
BEGIN:VEVENT
DTSTART;TZID=UTC:20201024T140000
DTEND;TZID=UTC:20201024T150000
DTSTAMP:20260423T215953
CREATED:20201015T163657Z
LAST-MODIFIED:20201016T125152Z
UID:1788-1603548000-1603551600@abrnetwork.org
SUMMARY:African Union COVID-19 Fundraising Live Event
DESCRIPTION:Organized by the African Union\, the AU COVID-19 Response Fundraiser is a digital event that will provide you with an update on the progress of the AU Covid-19 Response Fund and highlight its critical role as a vehicle for the implementation of the continental strategy to combat the pandemic. \n14.00 – Casablanca/Abuja | 15.00 Cairo/Johannesburg | 16.00 Addis Ababa/Nairobi
URL:https://abrnetwork.org/event/african-union-covid-19-fundraising-live-event/
CATEGORIES:2020
ATTACH;FMTTYPE=image/jpeg:https://abrnetwork.org/wp-content/uploads/2020/10/unnamed-1.jpg
END:VEVENT
BEGIN:VEVENT
DTSTART;TZID=UTC:20201020T143000
DTEND;TZID=UTC:20201020T160000
DTSTAMP:20260423T215953
CREATED:20201014T235539Z
LAST-MODIFIED:20201015T164247Z
UID:1784-1603204200-1603209600@abrnetwork.org
SUMMARY:Afreximbank’s Fourth Annual Babacar Ndiaye Lecture
DESCRIPTION:The African Export-Import Bank (Afreximbank) will be hosting its fourth annual Babacar Ndiaye Lecture on Tuesday 20 October 2020 from 2:30 pm – 4:00 pm (Cairo time)\, under the theme ‘Africa and the Remaking of the New World Order’. The keynote address will be delivered by H.E. Professor Kishore Mahbubani\, a world-renowned geopolitical thinker and founding Dean of the Lee Kuan Yew School of Public Policy at the National University of Singapore. \n  \nThe Lecture will provide the platform to reflect on options and policies to take advantage of emerging opportunities associated with geopolitical realignment and emerging new world order. Due to the COVID-19 pandemic\, this year’s Lecture will be a ‘Virtual Event’ online and viewers around the world can participate by clicking on the following \n  \nLink to join: HERE>> \n  \nFor more story: CLICK HERE>> \n  \n 
URL:https://abrnetwork.org/event/afreximbanks-fourth-annual-babacar-ndiaye-lecture/
CATEGORIES:2020
ATTACH;FMTTYPE=image/jpeg:https://abrnetwork.org/wp-content/uploads/2020/10/hk-1-419x280-1.jpg
END:VEVENT
BEGIN:VEVENT
DTSTART;TZID=UTC:20200917T113000
DTEND;TZID=UTC:20200917T130000
DTSTAMP:20260423T215953
CREATED:20200915T092757Z
LAST-MODIFIED:20200920T223756Z
UID:1768-1600342200-1600347600@abrnetwork.org
SUMMARY:The ABR Project Presentations Webinar II
DESCRIPTION:Where the African Business Roudtable will again be promoting and profiling pre-selected oven-ready projects for funding to interested investors \nTime: 11:30AM – 01:00PM GMT+1
URL:https://abrnetwork.org/event/the-abr-project-presentations-webinar-ii/
CATEGORIES:2020
ATTACH;FMTTYPE=image/png:https://abrnetwork.org/wp-content/uploads/2020/08/image.png
ORGANIZER;CN="African Business Roundtable":MAILTO:info@abrnetwork.org
END:VEVENT
BEGIN:VEVENT
DTSTART;TZID=UTC:20200910T150000
DTEND;TZID=UTC:20200910T170000
DTSTAMP:20260423T215953
CREATED:20200915T093736Z
LAST-MODIFIED:20200920T223803Z
UID:1770-1599750000-1599757200@abrnetwork.org
SUMMARY:Webinar on the African Private sector and the WTO Race
DESCRIPTION:Organized by Pan-African Private Sector Trade and Investment Committee (PAFTRAC) and in partnership with: African Business Roundtable\, Afreximbank\, The Afrochampions Initiative\, The African Capacity Building Foundation and PACCI \n  \nThis was a historic moment. It is the first time that Africa and its private sector have put down on paper a clear roadmap and set out their position with regards the WTO. This landmark moment will need to be followed up with concerted and collaborative action to ensure we take a deliberate approach to fulfill our objectives of The Africa we want.
URL:https://abrnetwork.org/event/webinar-on-the-african-private-sector-and-the-wto-race/
CATEGORIES:2020
ATTACH;FMTTYPE=image/png:https://abrnetwork.org/wp-content/uploads/2020/09/unnamed.png
END:VEVENT
BEGIN:VEVENT
DTSTART;VALUE=DATE:20191018
DTEND;VALUE=DATE:20191021
DTSTAMP:20260423T215953
CREATED:20190621T103031Z
LAST-MODIFIED:20190621T103251Z
UID:801-1571356800-1571615999@abrnetwork.org
SUMMARY:World Bank / IMF Annual Meetings
DESCRIPTION:Annual Meetings of the World Bank Group (WBG) and the International Monetary Fund (IMF)
URL:https://abrnetwork.org/event/world-bank-imf-annual-meetings/
LOCATION:World Bank/IMFBuilding\, Washington DC USA
CATEGORIES:2019
END:VEVENT
BEGIN:VEVENT
DTSTART;TZID=UTC:20190925T090000
DTEND;TZID=UTC:20190926T150000
DTSTAMP:20260423T215953
CREATED:20190925T090544Z
LAST-MODIFIED:20190925T090545Z
UID:1537-1569402000-1569510000@abrnetwork.org
SUMMARY:Africa Investment Summit
DESCRIPTION:
URL:https://abrnetwork.org/event/africa-investment-summit-2/
LOCATION:Grand Hyatt\, 109 East 42nd Street\, NY 10017\, New York\, NY\, United States
CATEGORIES:2019
ATTACH;FMTTYPE=image/png:https://abrnetwork.org/wp-content/uploads/2019/09/Africa-Investment-Summit-e1569069077164.png
END:VEVENT
BEGIN:VEVENT
DTSTART;TZID=UTC:20190925T080000
DTEND;TZID=UTC:20190926T170000
DTSTAMP:20260423T215953
CREATED:20190822T190756Z
LAST-MODIFIED:20190823T071956Z
UID:1489-1569398400-1569517200@abrnetwork.org
SUMMARY:AFRICA INVESTMENT SUMMIT
DESCRIPTION:Africa Investment Summit in the margins of the United Nations General Assembly\, 25-26 September\, 2019 New York\, USA \nHolding as part of the Africa Investment Summit\, under the theme: “Unlocking Investment Opportunities in African Markets’’\, this programme is structured to focus a global beam of attention on opportunities for international investment partnerships in the African economy\, particularly now that global markets are confronted with challenges of epic proportions. \nThe African Investment Summit 2019 is designed to put Nigeria’s economy at the center stage of global conversation at a time country leaders and top policy makers from across the globe and corporate leaders from around the world will be in New York for the United Nations General Assembly. This High level programme therefore presents to you\, a unique platform to address and engage the international community\, many of whom are eager to hear about opportunities in Nigeria in order to build development partnerships. \nIndeed\, the Africa Investment Summit 2019 will highlight the immense development\, humanitarian and business opportunities in Nigeria to a global audience of Heads of State and Government\, Policy Makers\, Investors and Country delegations to the United Nations General Assembly. Notable speakers at previous events include Former American President\, George W. Bush\, Former British Prime Minister\, Tony Blair and the 66th US Secretary of State\, Condoleezza Rice. A host of leaders in politics and business from across the globe have also attended and addressed the summit. \nThe event will attract world leaders and over 1000 business leaders from some of the largest corporations from across the globe. Members of leading policy think-tanks and businesses in the United States as well as business leaders and policy makers from across who will be in New York for UNGA will also participate in the event this year. In addition\, plans are underway to broadcast the event proceedings to millions across the globe by the international media – print\, electronic and online. \nThis programme will send a positive signal to international community about the workability of the safety nets and other social intervention policies put in place by the Government of Niger State to help the poorest of the poor and galvanize international support to scale them up. \nThis high-level event will be designed to shape the international economic agenda at the highest level\, and it will be expedient if you will graciously agree to lead this effort by sharing with the gathering\, your thoughts and the perspectives on Children’s education\, health\, empowerment and innovation and the prospect of increasing international inflows into those sectors. This programme promises to increase investor’s confidence and boost Nigeria’s investment drive. It will also jumpstart the economy on a higher gear and accelerates Nigeria’s momentum on the development drive. \nPlease send an email to abrwestafrica2@gmail.com or info@abrwestafrica.org for participation and sponsorship. \nVenue: UN Building Policy Room & Grand Hayatt Hotel\, 25 – 26 September respectively. \nTime: 8am -5pm \n  \nDOWNLOAD >> AFRICA INVESTMENT SUBMIT BROCHURE
URL:https://abrnetwork.org/event/africa-investment-summit/
LOCATION:UN Building Policy Room & Grand Hayatt Hotel
CATEGORIES:2019
ATTACH;FMTTYPE=image/png:https://abrnetwork.org/wp-content/uploads/2019/08/Screenshot_112.png
ORGANIZER;CN="African Business Roundtable":MAILTO:info@abrnetwork.org
END:VEVENT
BEGIN:VEVENT
DTSTART;VALUE=DATE:20190924
DTEND;VALUE=DATE:20191201
DTSTAMP:20260423T215953
CREATED:20190621T102611Z
LAST-MODIFIED:20190621T103430Z
UID:798-1569283200-1575158399@abrnetwork.org
SUMMARY:United Nations General Assembly
DESCRIPTION:Other Events on Africa Investment Climate and Economy will take place on the margins of the UNGA
URL:https://abrnetwork.org/event/united-nations-general-assembly/
LOCATION:United Nations Building New York. USA
CATEGORIES:2019
END:VEVENT
BEGIN:VEVENT
DTSTART;VALUE=DATE:20190904
DTEND;VALUE=DATE:20190906
DTSTAMP:20260423T215953
CREATED:20190621T101609Z
LAST-MODIFIED:20190626T160126Z
UID:792-1567555200-1567727999@abrnetwork.org
SUMMARY:FORUM AFRIQUE EXPANSION 9th Edition
DESCRIPTION:Largest networking platform in Canada dedicated to Africa-Canada partnerships and business opportunities. It is Organized by Afrique Expansion with support from Africa Export Import Bank (Afrexim) and Government of Quebec Please see link for participation and sponsorship info@forumae.com
URL:https://abrnetwork.org/event/forum-afrique-expansion-9th-edition/
LOCATION:Centre Sheraton Montreal\,  Canada
CATEGORIES:2019
ATTACH;FMTTYPE=image/png:https://abrnetwork.org/wp-content/uploads/2019/02/Screenshot_92.png
END:VEVENT
BEGIN:VEVENT
DTSTART;TZID=UTC:20190828T080000
DTEND;TZID=UTC:20190830T170000
DTSTAMP:20260423T215953
CREATED:20190822T192143Z
LAST-MODIFIED:20190823T072246Z
UID:1499-1566979200-1567184400@abrnetwork.org
SUMMARY:THE PAN AFRICAN WOMEN CEO FORUM
DESCRIPTION:Tanzania Women CEOs Roundtable in collaboration with Tanzania Chambers of Commerce & Industries and IRIS Executive Advisory Afrika takes great pleasure in inviting you at The Pan-African Women CEO forum 2019 which will take place in Dar Es Salaam\, Tanzania at the Whitesands Hotel from 28th to 30th August 2019. \nThis Forum is of Women CEOs\, Directors\, C-suite Executives\, Women led in private and Corporate Companies who are forging their own paths and paving the way for others hence Youth. \n“The Pan-African Women CEO forum 2019” strives to evolve into the Continent most potential Women Business own and Women led Organization\, convening a dialogue on sharing experience\, bringing experts and industrial players to share the opportunities and hence future business prospects in expanding their business without excluding youths in inspiring them to become future leaders. \n  \nDOWNLOAD >>  A4 CONCEPT NOTE WOMEN CEO-with Five Partners
URL:https://abrnetwork.org/event/the-pan-african-women-ceo-forum/
LOCATION:Whitesands Hotel\, Dar Es Salaam\, Tanzania
CATEGORIES:2019
ATTACH;FMTTYPE=image/png:https://abrnetwork.org/wp-content/uploads/2019/08/Screenshot_113.png
ORGANIZER;CN="Tanzania Women CEOs Roundtable":MAILTO:info@womenceo.co.tz
END:VEVENT
BEGIN:VEVENT
DTSTART;VALUE=DATE:20180131
DTEND;VALUE=DATE:20180201
DTSTAMP:20260423T215953
CREATED:20180128T125920Z
LAST-MODIFIED:20180128T125920Z
UID:187-1517356800-1517443199@abrnetwork.org
SUMMARY:The African Business Roundtable Hand-Over Ceremony & Dinner
DESCRIPTION:The African Business Roundtable Hand-Over Ceremony & Dinner\nWednesday 31 January\, 2018\nTranscorp Hilton Abuja.
URL:https://abrnetwork.org/event/the-african-business-roundtable-hand-over-ceremony-dinner/
CATEGORIES:2018
ATTACH;FMTTYPE=image/png:https://abrnetwork.org/wp-content/uploads/2017/12/b-1.png
ORGANIZER;CN="African Business Roundtable":MAILTO:info@abrnetwork.org
END:VEVENT
BEGIN:VEVENT
DTSTART;VALUE=DATE:20170227
DTEND;VALUE=DATE:20170228
DTSTAMP:20260423T215953
CREATED:20170407T224028Z
LAST-MODIFIED:20170410T211613Z
UID:108-1488153600-1488239999@abrnetwork.org
SUMMARY:FMARD NIGERIA AGRIC. EXPORT ZERO REJECT INITIATIVE
DESCRIPTION:Quality Assurance\, Value Chain Development and Export Enhancement (Interactive Forum With The Honourable Minister Of Agriculture And Rural Development\, MDAs involved in the Export Zero Reject Committee & Key Stakeholder in the Agric. Produce Export)
URL:https://abrnetwork.org/event/fmard-nigeria-agric-export-zero-reject-initiative/
LOCATION:EKO HOTEL & SUITE  (AMORA HALL)\, Lagos\, Nigeria
CATEGORIES:2017
END:VEVENT
END:VCALENDAR