BEGIN:VCALENDAR
VERSION:2.0
PRODID:-//AFRICAN BUSINESS ROUNDTABLE - ECPv6.15.20//NONSGML v1.0//EN
CALSCALE:GREGORIAN
METHOD:PUBLISH
X-ORIGINAL-URL:https://abrnetwork.org
X-WR-CALDESC:Events for AFRICAN BUSINESS ROUNDTABLE
REFRESH-INTERVAL;VALUE=DURATION:PT1H
X-Robots-Tag:noindex
X-PUBLISHED-TTL:PT1H
BEGIN:VTIMEZONE
TZID:Africa/Lagos
BEGIN:STANDARD
TZOFFSETFROM:+0100
TZOFFSETTO:+0100
TZNAME:WAT
DTSTART:20250101T000000
END:STANDARD
END:VTIMEZONE
BEGIN:VEVENT
DTSTART;VALUE=DATE:20260604
DTEND;VALUE=DATE:20260606
DTSTAMP:20260423T214132
CREATED:20260408T200642Z
LAST-MODIFIED:20260408T200642Z
UID:2998-1780531200-1780703999@abrnetwork.org
SUMMARY:AAFEF  2026 The Inaugural Arab- African Energy Finance & Investment Forum
DESCRIPTION:AAFEF  2026 \nThe Inaugural Arab- African Energy Finance & Investment Forum \n\nThe event is being hosted by AMETRADE.\nInterested participants are kindly requested to register at: https://arabafricanenergyfinance.com/\n\n4th – 5th June 2026 \nDakar\, Senegal
URL:https://abrnetwork.org/event/aafef-2026-the-inaugural-arab-african-energy-finance-investment-forum/
CATEGORIES:2026
END:VEVENT
BEGIN:VEVENT
DTSTART;VALUE=DATE:20260621
DTEND;VALUE=DATE:20260625
DTSTAMP:20260423T214132
CREATED:20260408T195356Z
LAST-MODIFIED:20260408T195356Z
UID:2984-1782000000-1782345599@abrnetwork.org
SUMMARY:Afreximbank Annual Meeting
DESCRIPTION:Theme: “Intra-African Trade & Industrialization: Pathway to Economic Sovereignty.”\nThe AAM2026 conference will bring together heads of state\, policymakers\, development finance institutions and international partners to discuss ways to strengthen economic sovereignty\, accelerate transformation and enhance regional value chains through intra-African trade and industrialization.\n\n\n\n\nJune 21 – 24 2026 \nEgypt\, New Alamein City
URL:https://abrnetwork.org/event/afreximbank-annual-meeting/
CATEGORIES:2026
END:VEVENT
BEGIN:VEVENT
DTSTART;VALUE=DATE:20260707
DTEND;VALUE=DATE:20260709
DTSTAMP:20260423T214132
CREATED:20260408T200800Z
LAST-MODIFIED:20260408T200800Z
UID:3000-1783382400-1783555199@abrnetwork.org
SUMMARY:9th Annual Mining On Top Africa 2026
DESCRIPTION:The event is being hosted by AMETRADE.\nInterested participants are kindly requested to register at\n\nhttps://miningontop-africa.com/ \n07 – 08 July \nParis\, France
URL:https://abrnetwork.org/event/9th-annual-mining-on-top-africa-2026/
CATEGORIES:2026
END:VEVENT
BEGIN:VEVENT
DTSTART;VALUE=DATE:20260726
DTEND;VALUE=DATE:20260730
DTSTAMP:20260423T214132
CREATED:20260408T195537Z
LAST-MODIFIED:20260408T195537Z
UID:2986-1785024000-1785369599@abrnetwork.org
SUMMARY:18th U.S Africa Business Summit 2026
DESCRIPTION:18th U.S Africa Business Summit 2026\n\nThis event will bring together African Heads of State and Government\, Ministers\, high-level U.S and African Government Officials\, CEOs\, and senior executives of U.S. and African companies to explore investment\, trade and commercial opportunities.\nRegistration opening soon\n\n26th – 29th July\, 2026 \nRepublic of Mauritius \n 
URL:https://abrnetwork.org/event/18th-u-s-africa-business-summit-2026/
CATEGORIES:2026
END:VEVENT
BEGIN:VEVENT
DTSTART;VALUE=DATE:20260908
DTEND;VALUE=DATE:20260923
DTSTAMP:20260423T214132
CREATED:20260408T195718Z
LAST-MODIFIED:20260408T195718Z
UID:2988-1788825600-1790121599@abrnetwork.org
SUMMARY:81st Session of the UN General Assembly (UNGA 81) Opening and General debate
DESCRIPTION:81st Session of the UN General Assembly (UNGA 81) Opening and General debate \nFull details of the event will be conveyed to you in due course. \n8th – 22nd September\, 2026 \nNew York City\, United States of America.
URL:https://abrnetwork.org/event/81st-session-of-the-un-general-assembly-unga-81-opening-and-general-debate/
CATEGORIES:2026
END:VEVENT
BEGIN:VEVENT
DTSTART;VALUE=DATE:20261003
DTEND;VALUE=DATE:20261009
DTSTAMP:20260423T214132
CREATED:20260408T200227Z
LAST-MODIFIED:20260408T200227Z
UID:2992-1790985600-1791503999@abrnetwork.org
SUMMARY:9th World Investment Forum (WIF)
DESCRIPTION:9th World Investment Forum (WIF) \n\nTheme: Countering Fragmentation of a Global Economy.\nFocusing on promoting sustainable investment and addressing global challenges.\n\n3rd – 8th October\, 2026. \nQatar.
URL:https://abrnetwork.org/event/9th-world-investment-forum-wif/
CATEGORIES:2026
END:VEVENT
BEGIN:VEVENT
DTSTART;VALUE=DATE:20261012
DTEND;VALUE=DATE:20261019
DTSTAMP:20260423T214132
CREATED:20260408T200330Z
LAST-MODIFIED:20260408T200330Z
UID:2994-1791763200-1792367999@abrnetwork.org
SUMMARY:World Bank/IMF Annual meetings
DESCRIPTION:World Bank/IMF Annual meetings \nThe meeting will bring together central bankers\, ministers of finance and development\, and more. \n12th – 18th October\, 2026. \nBangkok\, Thailand
URL:https://abrnetwork.org/event/world-bank-imf-annual-meetings-4/
CATEGORIES:2026
END:VEVENT
END:VCALENDAR