BEGIN:VCALENDAR
VERSION:2.0
PRODID:-//AFRICAN BUSINESS ROUNDTABLE - ECPv6.15.20//NONSGML v1.0//EN
CALSCALE:GREGORIAN
METHOD:PUBLISH
X-WR-CALNAME:AFRICAN BUSINESS ROUNDTABLE
X-ORIGINAL-URL:https://abrnetwork.org
X-WR-CALDESC:Events for AFRICAN BUSINESS ROUNDTABLE
REFRESH-INTERVAL;VALUE=DURATION:PT1H
X-Robots-Tag:noindex
X-PUBLISHED-TTL:PT1H
BEGIN:VTIMEZONE
TZID:Africa/Lagos
BEGIN:STANDARD
TZOFFSETFROM:+0100
TZOFFSETTO:+0100
TZNAME:WAT
DTSTART:20250101T000000
END:STANDARD
END:VTIMEZONE
BEGIN:VEVENT
DTSTART;VALUE=DATE:20260726
DTEND;VALUE=DATE:20260730
DTSTAMP:20260423T225403
CREATED:20260408T195537Z
LAST-MODIFIED:20260408T195537Z
UID:2986-1785024000-1785369599@abrnetwork.org
SUMMARY:18th U.S Africa Business Summit 2026
DESCRIPTION:18th U.S Africa Business Summit 2026\n\nThis event will bring together African Heads of State and Government\, Ministers\, high-level U.S and African Government Officials\, CEOs\, and senior executives of U.S. and African companies to explore investment\, trade and commercial opportunities.\nRegistration opening soon\n\n26th – 29th July\, 2026 \nRepublic of Mauritius \n 
URL:https://abrnetwork.org/event/18th-u-s-africa-business-summit-2026/
CATEGORIES:2026
END:VEVENT
END:VCALENDAR