BEGIN:VCALENDAR
VERSION:2.0
PRODID:-//AFRICAN BUSINESS ROUNDTABLE - ECPv6.15.20//NONSGML v1.0//EN
CALSCALE:GREGORIAN
METHOD:PUBLISH
X-WR-CALNAME:AFRICAN BUSINESS ROUNDTABLE
X-ORIGINAL-URL:https://abrnetwork.org
X-WR-CALDESC:Events for AFRICAN BUSINESS ROUNDTABLE
REFRESH-INTERVAL;VALUE=DURATION:PT1H
X-Robots-Tag:noindex
X-PUBLISHED-TTL:PT1H
BEGIN:VTIMEZONE
TZID:Africa/Lagos
BEGIN:STANDARD
TZOFFSETFROM:+0100
TZOFFSETTO:+0100
TZNAME:WAT
DTSTART:20250101T000000
END:STANDARD
END:VTIMEZONE
BEGIN:VEVENT
DTSTART;VALUE=DATE:20260413
DTEND;VALUE=DATE:20260419
DTSTAMP:20260423T182315
CREATED:20260408T194909Z
LAST-MODIFIED:20260408T194909Z
UID:2976-1776038400-1776556799@abrnetwork.org
SUMMARY:World Bank/IMF Spring Meetings
DESCRIPTION:World Bank/IMF Spring Meetings \n\nThe meetings are comprised of events open to all attendees\, ministerial-level invitation-only sessions\, closed bilateral meetings\, and events open only to the press.\n\n\nThe meeting will cover topics such as governance\, sustainable development\, and poverty eradication.\n\n13th – 18th April\, 2026 \nWashington\, D.C. \n 
URL:https://abrnetwork.org/event/world-bank-imf-spring-meetings-2/
CATEGORIES:2026
END:VEVENT
END:VCALENDAR