BEGIN:VCALENDAR
VERSION:2.0
PRODID:-//AFRICAN BUSINESS ROUNDTABLE - ECPv6.15.20//NONSGML v1.0//EN
CALSCALE:GREGORIAN
METHOD:PUBLISH
X-WR-CALNAME:AFRICAN BUSINESS ROUNDTABLE
X-ORIGINAL-URL:https://abrnetwork.org
X-WR-CALDESC:Events for AFRICAN BUSINESS ROUNDTABLE
REFRESH-INTERVAL;VALUE=DURATION:PT1H
X-Robots-Tag:noindex
X-PUBLISHED-TTL:PT1H
BEGIN:VTIMEZONE
TZID:Africa/Lagos
BEGIN:STANDARD
TZOFFSETFROM:+0100
TZOFFSETTO:+0100
TZNAME:WAT
DTSTART:20250101T000000
END:STANDARD
END:VTIMEZONE
BEGIN:VEVENT
DTSTART;VALUE=DATE:20260328
DTEND;VALUE=DATE:20260404
DTSTAMP:20260423T194641
CREATED:20260408T194756Z
LAST-MODIFIED:20260408T194756Z
UID:2974-1774656000-1775260799@abrnetwork.org
SUMMARY:58th session of the Economic Commission for Africa (ECA): Conference of African Ministers of Finance\, Planning and Economic Development
DESCRIPTION:58th session of the Economic Commission for Africa (ECA): Conference of African Ministers of Finance\, Planning and Economic Development \n\nTheme: Growth through innovation: Harnessing data and frontier technologies for the economic transformation of Africa.\nThe ministerial segment will include a high-level policy dialogue on the theme of the session\, the annual Adebayo Adedeji Lecture\, and round-table discussions on a series of sub-themes.\n\n28th March – 3rd April 2026 \nTangier\, Morocco. \n 
URL:https://abrnetwork.org/event/58th-session-of-the-economic-commission-for-africa-eca-conference-of-african-ministers-of-finance-planning-and-economic-development/
CATEGORIES:2026
END:VEVENT
END:VCALENDAR