BEGIN:VCALENDAR
VERSION:2.0
PRODID:-//AFRICAN BUSINESS ROUNDTABLE - ECPv6.15.20//NONSGML v1.0//EN
CALSCALE:GREGORIAN
METHOD:PUBLISH
X-ORIGINAL-URL:https://abrnetwork.org
X-WR-CALDESC:Events for AFRICAN BUSINESS ROUNDTABLE
REFRESH-INTERVAL;VALUE=DURATION:PT1H
X-Robots-Tag:noindex
X-PUBLISHED-TTL:PT1H
BEGIN:VTIMEZONE
TZID:Africa/Lagos
BEGIN:STANDARD
TZOFFSETFROM:+0100
TZOFFSETTO:+0100
TZNAME:WAT
DTSTART:20250101T000000
END:STANDARD
END:VTIMEZONE
BEGIN:VEVENT
DTSTART;VALUE=DATE:20260325
DTEND;VALUE=DATE:20260327
DTSTAMP:20260423T195147
CREATED:20260408T200517Z
LAST-MODIFIED:20260408T200517Z
UID:2996-1774396800-1774569599@abrnetwork.org
SUMMARY:The 13th edition of the Zambia International Mining & Energy Conference (ZIMEC 2026)
DESCRIPTION:The 13th edition of the Zambia International Mining & Energy Conference (ZIMEC 2026) \n\nThe event is being hosted by AMETRADE.\nInterested participants are kindly requested to register at: https://zimeczambia.com/\n\n25-26 March 2026. \nthe Garden Court Hotel\, Kitwe\, Zambia
URL:https://abrnetwork.org/event/the-13th-edition-of-the-zambia-international-mining-energy-conference-zimec-2026/
CATEGORIES:2026
END:VEVENT
END:VCALENDAR