BEGIN:VCALENDAR
VERSION:2.0
PRODID:-//AFRICAN BUSINESS ROUNDTABLE - ECPv6.15.20//NONSGML v1.0//EN
CALSCALE:GREGORIAN
METHOD:PUBLISH
X-WR-CALNAME:AFRICAN BUSINESS ROUNDTABLE
X-ORIGINAL-URL:https://abrnetwork.org
X-WR-CALDESC:Events for AFRICAN BUSINESS ROUNDTABLE
REFRESH-INTERVAL;VALUE=DURATION:PT1H
X-Robots-Tag:noindex
X-PUBLISHED-TTL:PT1H
BEGIN:VTIMEZONE
TZID:Africa/Lagos
BEGIN:STANDARD
TZOFFSETFROM:+0100
TZOFFSETTO:+0100
TZNAME:WAT
DTSTART:20250101T000000
END:STANDARD
END:VTIMEZONE
BEGIN:VEVENT
DTSTART;VALUE=DATE:20260216
DTEND;VALUE=DATE:20260218
DTSTAMP:20260423T213646
CREATED:20260408T194449Z
LAST-MODIFIED:20260408T194449Z
UID:2970-1771200000-1771372799@abrnetwork.org
SUMMARY:Africa Business Forum 2026
DESCRIPTION:Africa Business Forum 2026 \n\nTheme: Financing the future of Africa: Jobs and Innovation for sustainable transformation.\n\n\nRegistration is open. Deadline 13 February 2026. Kindly log into the website to register. https://indico.un.org/event/1021548/registrations/24160/\n\n\nThe Forum will spotlight the continent’s capacity to transform capital into impact by catalysing investments\, partnerships and policy that create jobs\, foster innovation\, and unlock creative potential.\n\n16th – 17th February\, 2026 \n1st floor Conference Room 1\, United Nations Conference Center\, Addis Ababa\, Ethiopia.
URL:https://abrnetwork.org/event/africa-business-forum-2026/
CATEGORIES:2026
END:VEVENT
END:VCALENDAR