BEGIN:VCALENDAR
VERSION:2.0
PRODID:-//AFRICAN BUSINESS ROUNDTABLE - ECPv6.15.20//NONSGML v1.0//EN
CALSCALE:GREGORIAN
METHOD:PUBLISH
X-WR-CALNAME:AFRICAN BUSINESS ROUNDTABLE
X-ORIGINAL-URL:https://abrnetwork.org
X-WR-CALDESC:Events for AFRICAN BUSINESS ROUNDTABLE
REFRESH-INTERVAL;VALUE=DURATION:PT1H
X-Robots-Tag:noindex
X-PUBLISHED-TTL:PT1H
BEGIN:VTIMEZONE
TZID:Africa/Lagos
BEGIN:STANDARD
TZOFFSETFROM:+0100
TZOFFSETTO:+0100
TZNAME:WAT
DTSTART:20250101T000000
END:STANDARD
END:VTIMEZONE
BEGIN:VEVENT
DTSTART;VALUE=DATE:20260211
DTEND;VALUE=DATE:20260216
DTSTAMP:20260423T213659
CREATED:20260408T194305Z
LAST-MODIFIED:20260408T194305Z
UID:2968-1770768000-1771199999@abrnetwork.org
SUMMARY:AU Summit: 48th Ordinary Session of the Executive Council and the 39th Ordinary Session of the Assembly of the AU Heads of State and Government
DESCRIPTION:AU Summit: 48th Ordinary Session of the Executive Council and the 39th Ordinary Session of the Assembly of the AU Heads of State and Government \n\nTheme: Justice for Africans and People of African Descent Through Reparations \n\n\nThese two sessions will be preceded by that of the Permanent Representatives Committee.\n\n11th – 15th February 2026 \nAddis Ababa\, Ethiopia.
URL:https://abrnetwork.org/event/au-summit-48th-ordinary-session-of-the-executive-council-and-the-39th-ordinary-session-of-the-assembly-of-the-au-heads-of-state-and-government/
CATEGORIES:2026
END:VEVENT
END:VCALENDAR